BEGIN:VCALENDAR
VERSION:2.0
PRODID:-//ChamberMaster//Event Calendar 2.0//EN
METHOD:PUBLISH
X-PUBLISHED-TTL:P3D
REFRESH-INTERVAL:P3D
CALSCALE:GREGORIAN
BEGIN:VEVENT
DTSTART:20141118T200000Z
DTEND:20141118T210000Z
X-MICROSOFT-CDO-ALLDAYEVENT:FALSE
SUMMARY:RC: Engineering Service
DESCRIPTION:RC: Engineering Service (115 Aerosmith Drive\, Richland)
X-ALT-DESC;FMTTYPE=text/html:RC: Engineering Service (115 Aerosmith Drive\, Richland)
LOCATION:
UID:e.1412.755
SEQUENCE:3
DTSTAMP:20260421T151112Z
URL:http://rankinchamber.chambermaster.com/events/details/rc-engineering-service-11-18-2014-755
END:VEVENT

END:VCALENDAR
