BEGIN:VCALENDAR
VERSION:2.0
PRODID:-//ChamberMaster//Event Calendar 2.0//EN
METHOD:PUBLISH
X-PUBLISHED-TTL:P3D
REFRESH-INTERVAL:P3D
CALSCALE:GREGORIAN
BEGIN:VEVENT
DTSTART:20210428T133000Z
DTEND:20210428T153000Z
X-MICROSOFT-CDO-ALLDAYEVENT:FALSE
SUMMARY:Chamber 101 Masterclass
DESCRIPTION:Chamber 101 Masterclass\n\n\n\nAttention Chamber members: Please make plans to join us!  We can't wait to teach you ALL the benefits your Chamber membership offers to help you GROW YOUR BUSINESS!!\n\nThis class is usually reserved for new members only.  But we are opening it up to existing members too!  No matter how long you or your business has been a Chamber member\, you will be sure to learn some new tricks!
X-ALT-DESC;FMTTYPE=text/html:<span style="font-family:comic sans ms\;"><span style="font-size:18px\;"><strong>Chamber 101 Masterclass</strong><br />\n<br />\n<span style="font-size:14px\;">Attention Chamber members: Please make plans to join us! &nbsp\;We can&#39\;t wait to teach you ALL the benefits your Chamber membership offers to help you GROW YOUR BUSINESS!!<br />\nThis class is usually reserved for new members only. &nbsp\;But we are opening it up to existing members too! &nbsp\;No matter how long you or your business has been a Chamber member\, you will be sure to learn some new tricks!</span></span></span>
LOCATION:The Vault Venue 200 College Street Brandon\, MS 39042
UID:e.1412.2923
SEQUENCE:3
DTSTAMP:20260421T052459Z
URL:http://rankinchamber.chambermaster.com/events/details/chamber-101-masterclass-2923
END:VEVENT

END:VCALENDAR
